BEGIN:VCALENDAR
VERSION:2.0
PRODID:-//Isabelle Filliozat - ECPv6.15.20//NONSGML v1.0//EN
CALSCALE:GREGORIAN
METHOD:PUBLISH
X-ORIGINAL-URL:https://www.filliozat.net
X-WR-CALDESC:Évènements pour Isabelle Filliozat
REFRESH-INTERVAL;VALUE=DURATION:PT1H
X-Robots-Tag:noindex
X-PUBLISHED-TTL:PT1H
BEGIN:VTIMEZONE
TZID:Europe/Paris
BEGIN:DAYLIGHT
TZOFFSETFROM:+0100
TZOFFSETTO:+0200
TZNAME:CEST
DTSTART:20220327T010000
END:DAYLIGHT
BEGIN:STANDARD
TZOFFSETFROM:+0200
TZOFFSETTO:+0100
TZNAME:CET
DTSTART:20221030T010000
END:STANDARD
BEGIN:DAYLIGHT
TZOFFSETFROM:+0100
TZOFFSETTO:+0200
TZNAME:CEST
DTSTART:20230326T010000
END:DAYLIGHT
BEGIN:STANDARD
TZOFFSETFROM:+0200
TZOFFSETTO:+0100
TZNAME:CET
DTSTART:20231029T010000
END:STANDARD
BEGIN:DAYLIGHT
TZOFFSETFROM:+0100
TZOFFSETTO:+0200
TZNAME:CEST
DTSTART:20240331T010000
END:DAYLIGHT
BEGIN:STANDARD
TZOFFSETFROM:+0200
TZOFFSETTO:+0100
TZNAME:CET
DTSTART:20241027T010000
END:STANDARD
END:VTIMEZONE
BEGIN:VEVENT
DTSTART;TZID=Europe/Paris:20231028T093000
DTEND;TZID=Europe/Paris:20231028T173000
DTSTAMP:20260423T073127
CREATED:20231011T122332Z
LAST-MODIFIED:20231012T095013Z
UID:10000096-1698485400-1698514200@www.filliozat.net
SUMMARY:Atelier : Stop aux crises
DESCRIPTION:Stop aux crises\, les bases de l’approche empathique : \n\naborder les difficultés que tout parent\, tout-e éducateur-trice\, rencontre dans ses tâches éducatives: l’enfant crise\, râle\, s’oppose\, n’écoute et n’obéit pas\, etc.\nmieux décoder ce qui se passe pour l’enfant – et pour nous adultes – dans les moments de crise et élaborer des outils pour gérer le stress qui en découle\nposer un regard empathique et bienveillant sur l’enfant\, malgré les difficultés rencontrées\nmieux réagir afin que des crises\, somme toute inhérentes à la vie\, ne dégénèrent pas et ne nous épuisent pas en tant que parent\ntrouver des pistes et des outils pour rendre la vie de famille plus harmonieuse et plus agréable
URL:https://www.filliozat.net/agenda/atelier-stop-aux-crises-2/
LOCATION:Auvernier\, Suisse\, Grand Rue 4\, Auvernier\, 2012\, Suisse
CATEGORIES:Stop aux crises
ATTACH;FMTTYPE=image/png:https://www.filliozat.net/wp-content/uploads/2023/10/atelier-stop-aux-crises-5.png
ORGANIZER;CN="Kirsten Kirschner":MAILTO:k.kirschner@bluewin.ch
GEO:46.9773868;6.8767844
X-APPLE-STRUCTURED-LOCATION;VALUE=URI;X-ADDRESS=Auvernier Suisse Grand Rue 4 Auvernier 2012 Suisse;X-APPLE-RADIUS=500;X-TITLE=Grand Rue 4:geo:6.8767844,46.9773868
END:VEVENT
BEGIN:VEVENT
DTSTART;TZID=Europe/Paris:20231021T093000
DTEND;TZID=Europe/Paris:20231021T173000
DTSTAMP:20260423T073127
CREATED:20231011T115621Z
LAST-MODIFIED:20231012T095100Z
UID:10000095-1697880600-1697909400@www.filliozat.net
SUMMARY:Atelier : Stop aux crises
DESCRIPTION:Stop aux crises\, les bases de l’approche empathique : \n\naborder les difficultés que tout parent\, tout-e éducateur-trice\, rencontre dans ses tâches éducatives: l’enfant crise\, râle\, s’oppose\, n’écoute et n’obéit pas\, etc.\nmieux décoder ce qui se passe pour l’enfant – et pour nous adultes – dans les moments de crise et élaborer des outils pour gérer le stress qui en découle\nposer un regard empathique et bienveillant sur l’enfant\, malgré les difficultés rencontrées\nmieux réagir afin que des crises\, somme toute inhérentes à la vie\, ne dégénèrent pas et ne nous épuisent pas en tant que parent\ntrouver des pistes et des outils pour rendre la vie de famille plus harmonieuse et plus agréable
URL:https://www.filliozat.net/agenda/atelier-stop-aux-crises-5/
LOCATION:La Chaux-de-Fonds\, Université populaire\, Rue de la Serre 62\, La Chaux-de-Fonds\, 2300\, Suisse
CATEGORIES:Stop aux crises
ATTACH;FMTTYPE=image/png:https://www.filliozat.net/wp-content/uploads/2023/10/atelier-stop-aux-crises-5.png
GEO:47.1003724;6.8241306
X-APPLE-STRUCTURED-LOCATION;VALUE=URI;X-ADDRESS=La Chaux-de-Fonds Université populaire Rue de la Serre 62 La Chaux-de-Fonds 2300 Suisse;X-APPLE-RADIUS=500;X-TITLE=Rue de la Serre 62:geo:6.8241306,47.1003724
END:VEVENT
BEGIN:VEVENT
DTSTART;TZID=Europe/Paris:20230928T183000
DTEND;TZID=Europe/Paris:20230928T200000
DTSTAMP:20260423T073127
CREATED:20230922T145129Z
LAST-MODIFIED:20230922T145129Z
UID:10000072-1695925800-1695931200@www.filliozat.net
SUMMARY:Sereins en famille : gérer les conflits entre frères et soeurs - par Alice Debacker
DESCRIPTION:VISIO-CONFÉRENCE\nLes conflits entre frères et sœurs sont fréquents\, mais pourquoi se disputent-ils et comment les gérer ? Cette visio-conférence t’apportera des infos et outils pour résoudre les désaccords et mieux comprendre tes enfants. \nSur inscription auprès de la Maison des Familles de Prévessin-Moens au +33 4 50 40 51 69 ou par mail à maisondesfamilles@prevessin-moens.fr \nPour les adultes en lien avec des fratries.
URL:https://www.filliozat.net/agenda/sereins-en-famille-gerer-les-conflits-entre-freres-et-soeurs-par-alice-debacker/
CATEGORIES:Conférences intervenantes Filliozat & co
ATTACH;FMTTYPE=image/png:https://www.filliozat.net/wp-content/uploads/2023/09/Couverture-evenement-2.png
ORGANIZER;CN="Alice Debacker":MAILTO:alice.parentalite@gmail.com
END:VEVENT
BEGIN:VEVENT
DTSTART;TZID=Europe/Paris:20230916T093000
DTEND;TZID=Europe/Paris:20230916T170000
DTSTAMP:20260423T073127
CREATED:20230907T103317Z
LAST-MODIFIED:20230907T103317Z
UID:10000065-1694856600-1694883600@www.filliozat.net
SUMMARY:Atelier parents "ACCUEIL DES EMOTIONS"
DESCRIPTION:Une journée entière pour plonger dans l’accueil et l’accompagnement des émotions de nos enfants !  \nEt oui\, on peut parfois se sentir démuni lorsque les enfants vivent une tempête émotionnelle.  \nDans cet atelier\, nous explorerons à travers la tête et le corps comment comprendre et accueillir une émotion\, éviter de renforcer les colères\, libérer les tensions…  \n             \n            Au programme : jeux de rôles\, expériences\, exploration des sensations.  \n            L’objectif : se sentir outillé et compétent pour accompagner les enfants à vivre leurs émotions ! \n            Pour qui ?  Les parents d’enfants de tout âge ! Ou les grands-parents\, les salariés travaillant au contact d’enfants…! \n            Animé par Nolwenn Gervais\, Consultante Parentalité et Education (Méthode Filliozat) \n  \n Atelier proposé par l’espace de vie sociale AASHN à Curnier  \nLieu : Maison Sociale – 26110 Curnier \nParticipation : 10€ + Adhésion annuelle à l’AASHN \nRenseignements et inscriptions : 04.75.27.45.39 ou assos.anim.ms.curnier@wanadoo.fr
URL:https://www.filliozat.net/agenda/atelier-parents-accueil-des-emotions/
LOCATION:Curnier\, Maison sociale\, Curnier\, 26110\, France
CATEGORIES:Accueil des émotions
ATTACH;FMTTYPE=image/png:https://www.filliozat.net/wp-content/uploads/2023/09/atelier-accueil-des-emotions.png
GEO:44.385279;5.233752
X-APPLE-STRUCTURED-LOCATION;VALUE=URI;X-ADDRESS=Curnier Maison sociale Curnier 26110 France;X-APPLE-RADIUS=500;X-TITLE=Maison sociale:geo:5.233752,44.385279
END:VEVENT
BEGIN:VEVENT
DTSTART;TZID=Europe/Paris:20230914T183000
DTEND;TZID=Europe/Paris:20230914T203000
DTSTAMP:20260423T073127
CREATED:20230901T130924Z
LAST-MODIFIED:20230901T130924Z
UID:10000064-1694716200-1694723400@www.filliozat.net
SUMMARY:Sereins en famille : gérer les crises et les émotions à la maison - par Alice Debacker
DESCRIPTION:Un apéro-conférence pour mêler détente et information ! \n\nTu es en lien avec un bébé un enfant ou un ado ?\nIel fait des crises ou a des émotions fortes ?\nIl t’arrive de faire ou dire des choses que tu regrettes ?\nTu ne sais pas comment agir à certains moments ?\nTu culpabilises après-coup ?\n\nTu veux : \n\nConstruire une relation saine avec ton enfant\nSavoir comment apaiser les crises\nVivre plus de calme à la maison\nMoins culpabiliser\n\nGrâce à cet apéro-conférence tu auras : \n\nDes infos sur ce qu’il se passe pour toi et tes enfants dans ces moments là\nDes outils pour agir dans les moments intenses en stress et émotions\nUne assiette composée et une boisson incluse.\n\nDestiné à tout adulte en lien avec un bébé\, enfant ou adolescent.
URL:https://www.filliozat.net/agenda/sereins-en-famille-gerer-les-crises-et-les-emotions-a-la-maison-par-alice-debacker/
LOCATION:Chez les Jumelles\, 185 Grand rue\, Cruseilles\, 74350\, France
CATEGORIES:Conférences
ATTACH;FMTTYPE=image/png:https://www.filliozat.net/wp-content/uploads/2023/09/Couverture-evenement-1.png
ORGANIZER;CN="Alice Debacker":MAILTO:alice.parentalite@gmail.com
GEO:46.0343174;6.1078814
X-APPLE-STRUCTURED-LOCATION;VALUE=URI;X-ADDRESS=Chez les Jumelles 185 Grand rue Cruseilles 74350 France;X-APPLE-RADIUS=500;X-TITLE=185 Grand rue:geo:6.1078814,46.0343174
END:VEVENT
BEGIN:VEVENT
DTSTART;TZID=Europe/Paris:20230711T183000
DTEND;TZID=Europe/Paris:20230711T203000
DTSTAMP:20260423T073127
CREATED:20230527T082514Z
LAST-MODIFIED:20230616T085434Z
UID:10000054-1689100200-1689107400@www.filliozat.net
SUMMARY:Atelier Bébé 0-1 an : Les bases de la confiance
DESCRIPTION:Atelier sur 4 rencontres en soirée \nLe 16 et 30 juin ainsi que le 4 et 11 juillet de 18h30 à 20h30 \nVenez découvrir les besoins d’un tout-petit et son développement. Vous apprendrez à mieux le comprendre pour construire le lien d’attachement.\nNous parlerons de la place du père\, de l’allaitement au sein et au biberon\, des pleurs mais aussi du burn-out et des difficultés de la vie de parent. \n140 € livret du participant inclus
URL:https://www.filliozat.net/agenda/atelier-bebe-0-1-ans-les-bases-de-la-confiance/2023-07-11/
LOCATION:Maison La ParenThèse\, 55 impasse du Pastrihoun\, Salon-de-Provence\, 13300\, France
CATEGORIES:0-1 an les bases de la confiance
ATTACH;FMTTYPE=image/png:https://www.filliozat.net/wp-content/uploads/2023/05/atelier-bebe.png
ORGANIZER;CN="Amandine Berthon":MAILTO:amandineberthon.consultante@gmail.com
GEO:43.62791;5.090139
X-APPLE-STRUCTURED-LOCATION;VALUE=URI;X-ADDRESS=Maison La ParenThèse 55 impasse du Pastrihoun Salon-de-Provence 13300 France;X-APPLE-RADIUS=500;X-TITLE=55 impasse du Pastrihoun:geo:5.090139,43.62791
END:VEVENT
BEGIN:VEVENT
DTSTART;TZID=Europe/Paris:20230704T183000
DTEND;TZID=Europe/Paris:20230704T203000
DTSTAMP:20260423T073127
CREATED:20230527T082514Z
LAST-MODIFIED:20230616T085434Z
UID:10000053-1688495400-1688502600@www.filliozat.net
SUMMARY:Atelier Bébé 0-1 an : Les bases de la confiance
DESCRIPTION:Atelier sur 4 rencontres en soirée \nLe 16 et 30 juin ainsi que le 4 et 11 juillet de 18h30 à 20h30 \nVenez découvrir les besoins d’un tout-petit et son développement. Vous apprendrez à mieux le comprendre pour construire le lien d’attachement.\nNous parlerons de la place du père\, de l’allaitement au sein et au biberon\, des pleurs mais aussi du burn-out et des difficultés de la vie de parent. \n140 € livret du participant inclus
URL:https://www.filliozat.net/agenda/atelier-bebe-0-1-ans-les-bases-de-la-confiance/2023-07-04/
LOCATION:Maison La ParenThèse\, 55 impasse du Pastrihoun\, Salon-de-Provence\, 13300\, France
CATEGORIES:0-1 an les bases de la confiance
ATTACH;FMTTYPE=image/png:https://www.filliozat.net/wp-content/uploads/2023/05/atelier-bebe.png
ORGANIZER;CN="Amandine Berthon":MAILTO:amandineberthon.consultante@gmail.com
GEO:43.62791;5.090139
X-APPLE-STRUCTURED-LOCATION;VALUE=URI;X-ADDRESS=Maison La ParenThèse 55 impasse du Pastrihoun Salon-de-Provence 13300 France;X-APPLE-RADIUS=500;X-TITLE=55 impasse du Pastrihoun:geo:5.090139,43.62791
END:VEVENT
BEGIN:VEVENT
DTSTART;TZID=Europe/Paris:20230630T183000
DTEND;TZID=Europe/Paris:20230630T203000
DTSTAMP:20260423T073127
CREATED:20230527T082514Z
LAST-MODIFIED:20230616T085434Z
UID:10000052-1688149800-1688157000@www.filliozat.net
SUMMARY:Atelier Bébé 0-1 an : Les bases de la confiance
DESCRIPTION:Atelier sur 4 rencontres en soirée \nLe 16 et 30 juin ainsi que le 4 et 11 juillet de 18h30 à 20h30 \nVenez découvrir les besoins d’un tout-petit et son développement. Vous apprendrez à mieux le comprendre pour construire le lien d’attachement.\nNous parlerons de la place du père\, de l’allaitement au sein et au biberon\, des pleurs mais aussi du burn-out et des difficultés de la vie de parent. \n140 € livret du participant inclus
URL:https://www.filliozat.net/agenda/atelier-bebe-0-1-ans-les-bases-de-la-confiance/2023-06-30/
LOCATION:Maison La ParenThèse\, 55 impasse du Pastrihoun\, Salon-de-Provence\, 13300\, France
CATEGORIES:0-1 an les bases de la confiance
ATTACH;FMTTYPE=image/png:https://www.filliozat.net/wp-content/uploads/2023/05/atelier-bebe.png
ORGANIZER;CN="Amandine Berthon":MAILTO:amandineberthon.consultante@gmail.com
GEO:43.62791;5.090139
X-APPLE-STRUCTURED-LOCATION;VALUE=URI;X-ADDRESS=Maison La ParenThèse 55 impasse du Pastrihoun Salon-de-Provence 13300 France;X-APPLE-RADIUS=500;X-TITLE=55 impasse du Pastrihoun:geo:5.090139,43.62791
END:VEVENT
BEGIN:VEVENT
DTSTART;TZID=Europe/Paris:20230616T183000
DTEND;TZID=Europe/Paris:20230616T203000
DTSTAMP:20260423T073127
CREATED:20230527T082514Z
LAST-MODIFIED:20230616T085434Z
UID:10000051-1686940200-1686947400@www.filliozat.net
SUMMARY:Atelier Bébé 0-1 an : Les bases de la confiance
DESCRIPTION:Atelier sur 4 rencontres en soirée \nLe 16 et 30 juin ainsi que le 4 et 11 juillet de 18h30 à 20h30 \nVenez découvrir les besoins d’un tout-petit et son développement. Vous apprendrez à mieux le comprendre pour construire le lien d’attachement.\nNous parlerons de la place du père\, de l’allaitement au sein et au biberon\, des pleurs mais aussi du burn-out et des difficultés de la vie de parent. \n140 € livret du participant inclus
URL:https://www.filliozat.net/agenda/atelier-bebe-0-1-ans-les-bases-de-la-confiance/2023-06-16/
LOCATION:Maison La ParenThèse\, 55 impasse du Pastrihoun\, Salon-de-Provence\, 13300\, France
CATEGORIES:0-1 an les bases de la confiance
ATTACH;FMTTYPE=image/png:https://www.filliozat.net/wp-content/uploads/2023/05/atelier-bebe.png
ORGANIZER;CN="Amandine Berthon":MAILTO:amandineberthon.consultante@gmail.com
GEO:43.62791;5.090139
X-APPLE-STRUCTURED-LOCATION;VALUE=URI;X-ADDRESS=Maison La ParenThèse 55 impasse du Pastrihoun Salon-de-Provence 13300 France;X-APPLE-RADIUS=500;X-TITLE=55 impasse du Pastrihoun:geo:5.090139,43.62791
END:VEVENT
BEGIN:VEVENT
DTSTART;TZID=Europe/Paris:20230527T090000
DTEND;TZID=Europe/Paris:20230527T180000
DTSTAMP:20260423T073127
CREATED:20230428T155808Z
LAST-MODIFIED:20230512T091832Z
UID:10000044-1685178000-1685210400@www.filliozat.net
SUMMARY:Atelier Stop aux crises organisé par Amandine Lignier
DESCRIPTION:Présentation du stage\nVotre enfant fait des crises\, s’oppose et n’écoute pas ?Voici l’atelier pour tous les parents qui souhaitent décoder les comportements difficiles du quotidien et améliorer la relation avec leur enfant. Dans cet atelier\, vous allez : \n\nDécouvrir les nouvelles avancées des neurosciences sur le développement du cerveau de l’enfant\,\nExpérimenter des méthodes simples qui facilitent et apaisent la communication\,\nDifférencier les règles qui marchent et celles qui ne fonctionnent pas\,\nIdentifier vos réactions automatiques contreproductives et découvrir d’autres façons d’agir\,\nApprendre à reconnaître et à réguler votre stress comme celui des enfants\, avec des outils ludiques et efficaces\,\nDévelopper une méthodologie d’analyse que vous pourrez ensuite appliquer à d’autres comportements de votre enfant.\n\nDevenez le parent que vous avez envie d’être même quand c’est difficile ! \n			\n						Informations & Inscription
URL:https://www.filliozat.net/agenda/atelier-stop-aux-crises-organise-par-amandine-lignier/
LOCATION:Le Nid\, 87 avenue de Saint-Germain\, Maisons-Laffitte\, Yvelines\, 78600\, France
CATEGORIES:Stop aux crises
ATTACH;FMTTYPE=image/png:https://www.filliozat.net/wp-content/uploads/2023/04/atelier-stop-aux-crises.png
ORGANIZER;CN="Amandine Lignier":MAILTO:gestesetmotsdamour@gmail.com
GEO:48.9404341;2.1389038
X-APPLE-STRUCTURED-LOCATION;VALUE=URI;X-ADDRESS=Le Nid 87 avenue de Saint-Germain Maisons-Laffitte Yvelines 78600 France;X-APPLE-RADIUS=500;X-TITLE=87 avenue de Saint-Germain:geo:2.1389038,48.9404341
END:VEVENT
END:VCALENDAR