BEGIN:VCALENDAR
VERSION:2.0
PRODID:-//Isabelle Filliozat - ECPv6.15.20//NONSGML v1.0//EN
CALSCALE:GREGORIAN
METHOD:PUBLISH
X-ORIGINAL-URL:https://www.filliozat.net
X-WR-CALDESC:Évènements pour Isabelle Filliozat
REFRESH-INTERVAL;VALUE=DURATION:PT1H
X-Robots-Tag:noindex
X-PUBLISHED-TTL:PT1H
BEGIN:VTIMEZONE
TZID:Europe/Paris
BEGIN:DAYLIGHT
TZOFFSETFROM:+0100
TZOFFSETTO:+0200
TZNAME:CEST
DTSTART:20250330T010000
END:DAYLIGHT
BEGIN:STANDARD
TZOFFSETFROM:+0200
TZOFFSETTO:+0100
TZNAME:CET
DTSTART:20251026T010000
END:STANDARD
BEGIN:DAYLIGHT
TZOFFSETFROM:+0100
TZOFFSETTO:+0200
TZNAME:CEST
DTSTART:20260329T010000
END:DAYLIGHT
BEGIN:STANDARD
TZOFFSETFROM:+0200
TZOFFSETTO:+0100
TZNAME:CET
DTSTART:20261025T010000
END:STANDARD
BEGIN:DAYLIGHT
TZOFFSETFROM:+0100
TZOFFSETTO:+0200
TZNAME:CEST
DTSTART:20270328T010000
END:DAYLIGHT
BEGIN:STANDARD
TZOFFSETFROM:+0200
TZOFFSETTO:+0100
TZNAME:CET
DTSTART:20271031T010000
END:STANDARD
END:VTIMEZONE
BEGIN:VEVENT
DTSTART;TZID=Europe/Paris:20260314T100000
DTEND;TZID=Europe/Paris:20260314T120000
DTSTAMP:20260425T130309
CREATED:20260122T103557Z
LAST-MODIFIED:20260122T103557Z
UID:10000605-1773482400-1773489600@www.filliozat.net
SUMMARY:Quand le jeu renforce le lien
DESCRIPTION:Jouer avec son enfant n’est pas anodin : c’est un puissant levier de connexion\, de sécurité affective et de régulation émotionnelle. Inspiré de l’approche d’Isabelle Filliozat\, cet atelier explore pourquoi le jeu est essentiel au développement de l’enfant\, pourquoi il peut parfois être difficile pour les parents\, et comment choisir des jeux adaptés à chaque âge.\nÀ travers les jeux d’attachement\, découvrez comment le jeu peut apaiser les tensions\, renforcer le lien parent-enfant et nourrir une relation plus sereine et joyeuse.
URL:https://www.filliozat.net/agenda/quand-le-jeu-renforce-le-lien-6/
LOCATION:Bibliothèque Robert Sabatier\, 29 rue Hermel\, Paris\, 75018\, France
CATEGORIES:Autre
ATTACH;FMTTYPE=image/jpeg:https://www.filliozat.net/wp-content/uploads/2026/01/7CD130F7-03F3-4921-9D1B-692EC4C3F9FD.jpg
ORGANIZER;CN="Biblioth%C3%A8que Robert Sabatier":MAILTO:bibliotheque.robert-sabatier@paris.fr
GEO:48.8915943;2.3443157
X-APPLE-STRUCTURED-LOCATION;VALUE=URI;X-ADDRESS=Bibliothèque Robert Sabatier 29 rue Hermel Paris 75018 France;X-APPLE-RADIUS=500;X-TITLE=29 rue Hermel:geo:2.3443157,48.8915943
END:VEVENT
END:VCALENDAR