BEGIN:VCALENDAR
VERSION:2.0
PRODID:-//Isabelle Filliozat - ECPv6.15.20//NONSGML v1.0//EN
CALSCALE:GREGORIAN
METHOD:PUBLISH
X-WR-CALNAME:Isabelle Filliozat
X-ORIGINAL-URL:https://www.filliozat.net
X-WR-CALDESC:Évènements pour Isabelle Filliozat
REFRESH-INTERVAL;VALUE=DURATION:PT1H
X-Robots-Tag:noindex
X-PUBLISHED-TTL:PT1H
BEGIN:VTIMEZONE
TZID:Europe/Paris
BEGIN:DAYLIGHT
TZOFFSETFROM:+0100
TZOFFSETTO:+0200
TZNAME:CEST
DTSTART:20250330T010000
END:DAYLIGHT
BEGIN:STANDARD
TZOFFSETFROM:+0200
TZOFFSETTO:+0100
TZNAME:CET
DTSTART:20251026T010000
END:STANDARD
BEGIN:DAYLIGHT
TZOFFSETFROM:+0100
TZOFFSETTO:+0200
TZNAME:CEST
DTSTART:20260329T010000
END:DAYLIGHT
BEGIN:STANDARD
TZOFFSETFROM:+0200
TZOFFSETTO:+0100
TZNAME:CET
DTSTART:20261025T010000
END:STANDARD
BEGIN:DAYLIGHT
TZOFFSETFROM:+0100
TZOFFSETTO:+0200
TZNAME:CEST
DTSTART:20270328T010000
END:DAYLIGHT
BEGIN:STANDARD
TZOFFSETFROM:+0200
TZOFFSETTO:+0100
TZNAME:CET
DTSTART:20271031T010000
END:STANDARD
END:VTIMEZONE
BEGIN:VEVENT
DTSTART;TZID=Europe/Paris:20260304T193000
DTEND;TZID=Europe/Paris:20260304T213000
DTSTAMP:20260425T125941
CREATED:20260302T125118Z
LAST-MODIFIED:20260302T125118Z
UID:10000644-1772652600-1772659800@www.filliozat.net
SUMMARY:Apéro des parents
DESCRIPTION:Comment gérer le stress parental au quotidien \nPourquoi les comportements de mon enfant me stressent ils ? Que vit-il de son côté ? Et comment mieux communiquer avec lui au quotidien ? \nCet atelier propose aux parents des clés pour :\n\nIdentifier leurs propres sources de stress\,\nMieux comprendre les réactions de leur enfant\,\nTransmettre des consignes de façon claire et bienveillante.\n\nUn moment d’échange pour repartir avec des outils concrets et plus de sérénité à la maison.
URL:https://www.filliozat.net/agenda/apero-des-parents/
LOCATION:Lyon – Soucieu en Jarrest\, 16 rue Micky Barange\, Soucieu en Jarrest\, 69510\, France
CATEGORIES:Autre
ATTACH;FMTTYPE=image/png:https://www.filliozat.net/wp-content/uploads/2026/03/2026-03-a-05-Apero-Parents.png
ORGANIZER;CN="Eve Jacotet":MAILTO:eve.jacotet@hotmail.com
GEO:45.6784931;4.700725
X-APPLE-STRUCTURED-LOCATION;VALUE=URI;X-ADDRESS=Lyon – Soucieu en Jarrest 16 rue Micky Barange Soucieu en Jarrest 69510 France;X-APPLE-RADIUS=500;X-TITLE=16 rue Micky Barange:geo:4.700725,45.6784931
END:VEVENT
END:VCALENDAR