BEGIN:VCALENDAR
VERSION:2.0
PRODID:-//Isabelle Filliozat - ECPv6.15.20//NONSGML v1.0//EN
CALSCALE:GREGORIAN
METHOD:PUBLISH
X-WR-CALNAME:Isabelle Filliozat
X-ORIGINAL-URL:https://www.filliozat.net
X-WR-CALDESC:Évènements pour Isabelle Filliozat
REFRESH-INTERVAL;VALUE=DURATION:PT1H
X-Robots-Tag:noindex
X-PUBLISHED-TTL:PT1H
BEGIN:VTIMEZONE
TZID:Europe/Paris
BEGIN:DAYLIGHT
TZOFFSETFROM:+0100
TZOFFSETTO:+0200
TZNAME:CEST
DTSTART:20250330T010000
END:DAYLIGHT
BEGIN:STANDARD
TZOFFSETFROM:+0200
TZOFFSETTO:+0100
TZNAME:CET
DTSTART:20251026T010000
END:STANDARD
BEGIN:DAYLIGHT
TZOFFSETFROM:+0100
TZOFFSETTO:+0200
TZNAME:CEST
DTSTART:20260329T010000
END:DAYLIGHT
BEGIN:STANDARD
TZOFFSETFROM:+0200
TZOFFSETTO:+0100
TZNAME:CET
DTSTART:20261025T010000
END:STANDARD
BEGIN:DAYLIGHT
TZOFFSETFROM:+0100
TZOFFSETTO:+0200
TZNAME:CEST
DTSTART:20270328T010000
END:DAYLIGHT
BEGIN:STANDARD
TZOFFSETFROM:+0200
TZOFFSETTO:+0100
TZNAME:CET
DTSTART:20271031T010000
END:STANDARD
END:VTIMEZONE
BEGIN:VEVENT
DTSTART;TZID=Europe/Paris:20260411T153000
DTEND;TZID=Europe/Paris:20260817T173000
DTSTAMP:20260424T060544
CREATED:20251204T122619Z
LAST-MODIFIED:20251204T122619Z
UID:10000567-1775921400-1786987800@www.filliozat.net
SUMMARY:Quand le jeu renforce le lien
DESCRIPTION:Cet atelier a pour objectif d’explorer comment le jeu libre et la relation ludique nourrissent le lien parent-enfant\, renforcent la confiance mutuelle et soutiennent le développement affectif et cognitif de l’enfant.\nIl s’appuie sur des apports théoriques\, des échanges entre parents et des expérimentations concrètes\, dans une ambiance conviviale et bienveillante.
URL:https://www.filliozat.net/agenda/quand-le-jeu-renforce-le-lien-5/
LOCATION:Médiathèque Jean d’Ormesson\, 167 avenue Charles de Gaulle\, Neuilly-Sur-Seine\, 92200\, France
CATEGORIES:Autre
ATTACH;FMTTYPE=image/jpeg:https://www.filliozat.net/wp-content/uploads/2025/12/7CD130F7-03F3-4921-9D1B-692EC4C3F9FD-3.jpg
ORGANIZER;CN="Espace Culturel Jean d'Ormesson":MAILTO:lamediatheque@ville-neuillysurseine.fr
GEO:48.8834928;2.2632576
X-APPLE-STRUCTURED-LOCATION;VALUE=URI;X-ADDRESS=Médiathèque Jean d’Ormesson 167 avenue Charles de Gaulle Neuilly-Sur-Seine 92200 France;X-APPLE-RADIUS=500;X-TITLE=167 avenue Charles de Gaulle:geo:2.2632576,48.8834928
END:VEVENT
END:VCALENDAR