BEGIN:VCALENDAR
VERSION:2.0
PRODID:-//Isabelle Filliozat - ECPv6.15.20//NONSGML v1.0//EN
CALSCALE:GREGORIAN
METHOD:PUBLISH
X-ORIGINAL-URL:https://www.filliozat.net
X-WR-CALDESC:Évènements pour Isabelle Filliozat
REFRESH-INTERVAL;VALUE=DURATION:PT1H
X-Robots-Tag:noindex
X-PUBLISHED-TTL:PT1H
BEGIN:VTIMEZONE
TZID:Europe/Paris
BEGIN:DAYLIGHT
TZOFFSETFROM:+0100
TZOFFSETTO:+0200
TZNAME:CEST
DTSTART:20250330T010000
END:DAYLIGHT
BEGIN:STANDARD
TZOFFSETFROM:+0200
TZOFFSETTO:+0100
TZNAME:CET
DTSTART:20251026T010000
END:STANDARD
BEGIN:DAYLIGHT
TZOFFSETFROM:+0100
TZOFFSETTO:+0200
TZNAME:CEST
DTSTART:20260329T010000
END:DAYLIGHT
BEGIN:STANDARD
TZOFFSETFROM:+0200
TZOFFSETTO:+0100
TZNAME:CET
DTSTART:20261025T010000
END:STANDARD
BEGIN:DAYLIGHT
TZOFFSETFROM:+0100
TZOFFSETTO:+0200
TZNAME:CEST
DTSTART:20270328T010000
END:DAYLIGHT
BEGIN:STANDARD
TZOFFSETFROM:+0200
TZOFFSETTO:+0100
TZNAME:CET
DTSTART:20271031T010000
END:STANDARD
END:VTIMEZONE
BEGIN:VEVENT
DTSTART;TZID=Europe/Paris:20260327T193000
DTEND;TZID=Europe/Paris:20260327T213000
DTSTAMP:20260424T032819
CREATED:20251204T114630Z
LAST-MODIFIED:20260304T103304Z
UID:10000565-1774639800-1774647000@www.filliozat.net
SUMMARY:Semaine du Lien 2026 : Quand le jeu renforce le lien
DESCRIPTION:Dans le cadre de la Semaine du Lien\, organisée par le Réseau des Professionnels Filliozat\, cet atelier a pour objectif d’explorer comment le jeu libre et la relation ludique nourrissent le lien parent-enfant\, renforcent la confiance mutuelle et soutiennent le développement affectif et cognitif de l’enfant.\nIl s’appuie sur des apports théoriques et des échanges entre parents dans une ambiance conviviale et bienveillante.
URL:https://www.filliozat.net/agenda/quand-le-jeu-renforce-le-lien-4/
LOCATION:Tiers-lieu FAIRE LIENS\, 44 rue Dr Finlay\, Paris\, 75015\, France
CATEGORIES:Autre,Semaine du Lien
GEO:48.8512882;2.2907704
X-APPLE-STRUCTURED-LOCATION;VALUE=URI;X-ADDRESS=Tiers-lieu FAIRE LIENS 44 rue Dr Finlay Paris 75015 France;X-APPLE-RADIUS=500;X-TITLE=44 rue Dr Finlay:geo:2.2907704,48.8512882
END:VEVENT
END:VCALENDAR